Workbook

Sheet menu
A1: 【出場種目・男女混合】
B2: 大会名 | G2: 種目 | H2: 男女混合 | I2: ★出場種目・男女混合は、間違えないように選択してください。
B3: 第38回広島県小学生総合体育大会バレーボールの部北部予選大会参加申込書
B4: 第50回記念広島ジュニアバレーボール大会北部予選兼交歓大会参加申込書
B5: 第35回レンジャー杯争奪ジュニア選手権大会参加申込書 | G5: ６人制
B6: 第36回2027広島ドリームバレーボール小学生大会北部予選大会参加申込書 | G6: 予選
A8: 【基本情報】
A9: チーム名 | P9: 東キャッツスポーツ少年団
A10: 代表者 | B10: 名前 | P10: 三次バレーボールスポーツ少年団
B11: 住所 | P11: 東城バレーボールクラブ
B12: 郵便番号 | P12: 西城バレーボールスポーツ少年団
B13: 携帯電話 | P13: 吉田バレーボールスポーツ少年団
A14: ベンチ | B14: 監督 | D14: 指導者登録証 登録番号 | P14: 小奴可バレーボールクラブ
B15: コーチ | D15: 指導者登録証 登録番号 | P15: 吉舎バレーボールスポーツ少年団
B16: コーチ | D16: 指導者登録証 登録番号
B17: ﾏﾈｰｼﾞｬ― | D17: 指導者登録証 登録番号 | P17: 向原スポーツ少年団
A18: 帯同審判員 | P18: SHIN3
B19: No | C19: 名前 | D19: ｷｬﾌﾟﾃﾝ | E19: 学年 | F19: 男女 | P19: 総領バレーボールクラブ
G20: ★キャプテンは○を選択してください。 | P20: 絆
P21: 上下JVC
P22: 美土里Jrバレーボール
A23: 選
A28: 手

Sheet 県小
A1: =menu!B3 -> 第38回広島県小学生総合体育大会バレーボールの部北部予選大会参加申込書
A3: チーム名 | B3: =IF(menu!C9="","",menu!C9)
A4: 出場種目 | B4: =IF(menu!G3="","",menu!G3)
A5: 男女混合 | B5: =IF(menu!H3="","",menu!H3)
A6: 代表者 | B6: 名前 | C6: =IF(menu!C10="","",menu!C10)
B7: 住所 | C7: =IF(menu!C11="","",menu!C11)
B8: 郵便番号 | C8: =IF(menu!C12="","",menu!C12)
B9: 携帯電話 | C9: =IF(menu!C13="","",menu!C13)
A10: ベンチ | B10: 監督 | C10: =IF(menu!C14="","",menu!C14)
A11: スタッフ | B11: コーチ | C11: =IF(menu!C15="","",menu!C15)
B12: コーチ | C12: =IF(menu!C16="","",menu!C16)
B13: ﾏﾈｰｼﾞｬ― | C13: =IF(menu!C17="","",menu!C17)
A14: 帯同審判員 | C14: =IF(menu!C18="","",menu!C18)
B15: No | C15: 名前 | D15: 学年 | E15: 男女 | F15: MRS
B16: =IF(menu!B20="","",IF(menu!D20="〇",IF(menu!B20<21,_xlfn.UNICHAR(9312-1+menu!B20),_xlfn.UNICHAR(12881-1+menu!B20-20)),menu!B20)) | C16: =IF(menu!C20="","",menu!C20) | D16: =IF(menu!E20="","",menu!E20) | E16: =IF(menu!F20="","",menu!F20) | F16: □ | G16: ○MRS欄は競技委員がチェックするのに使用します。
B17: =IF(menu!B21="","",IF(menu!D21="〇",IF(menu!B21<21,_xlfn.UNICHAR(9312-1+menu!B21),_xlfn.UNICHAR(12881-1+menu!B21-20)),menu!B21)) | C17: =IF(menu!C21="","",menu!C21) | D17: =IF(menu!E21="","",menu!E21) | E17: =IF(menu!F21="","",menu!F21) | F17: □
A18: 選 | B18: =IF(menu!B22="","",IF(menu!D22="〇",IF(menu!B22<21,_xlfn.UNICHAR(9312-1+menu!B22),_xlfn.UNICHAR(12881-1+menu!B22-20)),menu!B22)) | C18: =IF(menu!C22="","",menu!C22) | D18: =IF(menu!E22="","",menu!E22) | E18: =IF(menu!F22="","",menu!F22) | F18: □
B19: =IF(menu!B23="","",IF(menu!D23="〇",IF(menu!B23<21,_xlfn.UNICHAR(9312-1+menu!B23),_xlfn.UNICHAR(12881-1+menu!B23-20)),menu!B23)) | C19: =IF(menu!C23="","",menu!C23) | D19: =IF(menu!E23="","",menu!E23) | E19: =IF(menu!F23="","",menu!F23) | F19: □
B20: =IF(menu!B24="","",IF(menu!D24="〇",IF(menu!B24<21,_xlfn.UNICHAR(9312-1+menu!B24),_xlfn.UNICHAR(12881-1+menu!B24-20)),menu!B24)) | C20: =IF(menu!C24="","",menu!C24) | D20: =IF(menu!E24="","",menu!E24) | E20: =IF(menu!F24="","",menu!F24) | F20: □
B21: =IF(menu!B25="","",IF(menu!D25="〇",IF(menu!B25<21,_xlfn.UNICHAR(9312-1+menu!B25),_xlfn.UNICHAR(12881-1+menu!B25-20)),menu!B25)) | C21: =IF(menu!C25="","",menu!C25) | D21: =IF(menu!E25="","",menu!E25) | E21: =IF(menu!F25="","",menu!F25) | F21: □
B22: =IF(menu!B26="","",IF(menu!D26="〇",IF(menu!B26<21,_xlfn.UNICHAR(9312-1+menu!B26),_xlfn.UNICHAR(12881-1+menu!B26-20)),menu!B26)) | C22: =IF(menu!C26="","",menu!C26) | D22: =IF(menu!E26="","",menu!E26) | E22: =IF(menu!F26="","",menu!F26) | F22: □
A23: 手 | B23: =IF(menu!B27="","",IF(menu!D27="〇",IF(menu!B27<21,_xlfn.UNICHAR(9312-1+menu!B27),_xlfn.UNICHAR(12881-1+menu!B27-20)),menu!B27)) | C23: =IF(menu!C27="","",menu!C27) | D23: =IF(menu!E27="","",menu!E27) | E23: =IF(menu!F27="","",menu!F27) | F23: □
B24: =IF(menu!B28="","",IF(menu!D28="〇",IF(menu!B28<21,_xlfn.UNICHAR(9312-1+menu!B28),_xlfn.UNICHAR(12881-1+menu!B28-20)),menu!B28)) | C24: =IF(menu!C28="","",menu!C28) | D24: =IF(menu!E28="","",menu!E28) | E24: =IF(menu!F28="","",menu!F28) | F24: □
B25: =IF(menu!B29="","",IF(menu!D29="〇",IF(menu!B29<21,_xlfn.UNICHAR(9312-1+menu!B29),_xlfn.UNICHAR(12881-1+menu!B29-20)),menu!B29)) | C25: =IF(menu!C29="","",menu!C29) | D25: =IF(menu!E29="","",menu!E29) | E25: =IF(menu!F29="","",menu!F29) | F25: □
B26: =IF(menu!B30="","",IF(menu!D30="〇",IF(menu!B30<21,_xlfn.UNICHAR(9312-1+menu!B30),_xlfn.UNICHAR(12881-1+menu!B30-20)),menu!B30)) | C26: =IF(menu!C30="","",menu!C30) | D26: =IF(menu!E30="","",menu!E30) | E26: =IF(menu!F30="","",menu!F30) | F26: □
B27: =IF(menu!B31="","",IF(menu!D31="〇",IF(menu!B31<21,_xlfn.UNICHAR(9312-1+menu!B31),_xlfn.UNICHAR(12881-1+menu!B31-20)),menu!B31)) | C27: =IF(menu!C31="","",menu!C31) | D27: =IF(menu!E31="","",menu!E31) | E27: =IF(menu!F31="","",menu!F31) | F27: □
B28: =IF(menu!B32="","",IF(menu!D32="〇",IF(menu!B32<21,_xlfn.UNICHAR(9312-1+menu!B32),_xlfn.UNICHAR(12881-1+menu!B32-20)),menu!B32)) | C28: =IF(menu!C32="","",menu!C32) | D28: =IF(menu!E32="","",menu!E32) | E28: =IF(menu!F32="","",menu!F32) | F28: □
B29: =IF(menu!B33="","",IF(menu!D33="〇",IF(menu!B33<21,_xlfn.UNICHAR(9312-1+menu!B33),_xlfn.UNICHAR(12881-1+menu!B33-20)),menu!B33)) | C29: =IF(menu!C33="","",menu!C33) | D29: =IF(menu!E33="","",menu!E33) | E29: =IF(menu!F33="","",menu!F33) | F29: □

Sheet ジュニア
A1: =menu!B4 -> 第50回記念広島ジュニアバレーボール大会北部予選兼交歓大会参加申込書
A3: チーム名 | B3: =IF(menu!C9="","",menu!C9)
A4: 出場種目 | B4: =IF(menu!G4="","",menu!G4)
A5: 男女混合 | B5: =IF(menu!H4="","",menu!H4)
A6: 代表者 | B6: 名前 | C6: =IF(menu!C10="","",menu!C10)
B7: 住所 | C7: =IF(menu!C11="","",menu!C11)
B8: 郵便番号 | C8: =IF(menu!C12="","",menu!C12)
B9: 携帯電話 | C9: =IF(menu!C13="","",menu!C13)
A10: ベンチ | B10: 監督 | C10: =IF(menu!C14="","",menu!C14) | D10: 指導者登録証 登録番号 | E10: =IF(menu!E14="","",menu!E14)
A11: スタッフ | B11: コーチ | C11: =IF(menu!C15="","",menu!C15) | D11: 指導者登録証 登録番号 | E11: =IF(menu!E15="","",menu!E15)
B12: コーチ | C12: =IF(menu!C16="","",menu!C16) | D12: 指導者登録証 登録番号 | E12: =IF(menu!E16="","",menu!E16)
B13: ﾏﾈｰｼﾞｬ― | C13: =IF(menu!C17="","",menu!C17) | D13: 指導者登録証 登録番号 | E13: =IF(menu!E17="","",menu!E17)
A14: 帯同審判員 | C14: =IF(menu!C18="","",menu!C18)
B15: No | C15: 名前 | D15: 学年 | E15: 男女 | F15: MRS
B16: =IF(menu!B20="","",IF(menu!D20="〇",IF(menu!B20<21,_xlfn.UNICHAR(9312-1+menu!B20),_xlfn.UNICHAR(12881-1+menu!B20-20)),menu!B20)) | C16: =IF(menu!C20="","",menu!C20) | D16: =IF(menu!E20="","",menu!E20) | E16: =IF(menu!F20="","",menu!F20) | F16: □ | G16: ○MRS欄は競技委員がチェックするのに使用します。
B17: =IF(menu!B21="","",IF(menu!D21="〇",IF(menu!B21<21,_xlfn.UNICHAR(9312-1+menu!B21),_xlfn.UNICHAR(12881-1+menu!B21-20)),menu!B21)) | C17: =IF(menu!C21="","",menu!C21) | D17: =IF(menu!E21="","",menu!E21) | E17: =IF(menu!F21="","",menu!F21) | F17: □
A18: 選 | B18: =IF(menu!B22="","",IF(menu!D22="〇",IF(menu!B22<21,_xlfn.UNICHAR(9312-1+menu!B22),_xlfn.UNICHAR(12881-1+menu!B22-20)),menu!B22)) | C18: =IF(menu!C22="","",menu!C22) | D18: =IF(menu!E22="","",menu!E22) | E18: =IF(menu!F22="","",menu!F22) | F18: □
B19: =IF(menu!B23="","",IF(menu!D23="〇",IF(menu!B23<21,_xlfn.UNICHAR(9312-1+menu!B23),_xlfn.UNICHAR(12881-1+menu!B23-20)),menu!B23)) | C19: =IF(menu!C23="","",menu!C23) | D19: =IF(menu!E23="","",menu!E23) | E19: =IF(menu!F23="","",menu!F23) | F19: □
B20: =IF(menu!B24="","",IF(menu!D24="〇",IF(menu!B24<21,_xlfn.UNICHAR(9312-1+menu!B24),_xlfn.UNICHAR(12881-1+menu!B24-20)),menu!B24)) | C20: =IF(menu!C24="","",menu!C24) | D20: =IF(menu!E24="","",menu!E24) | E20: =IF(menu!F24="","",menu!F24) | F20: □
B21: =IF(menu!B25="","",IF(menu!D25="〇",IF(menu!B25<21,_xlfn.UNICHAR(9312-1+menu!B25),_xlfn.UNICHAR(12881-1+menu!B25-20)),menu!B25)) | C21: =IF(menu!C25="","",menu!C25) | D21: =IF(menu!E25="","",menu!E25) | E21: =IF(menu!F25="","",menu!F25) | F21: □
B22: =IF(menu!B26="","",IF(menu!D26="〇",IF(menu!B26<21,_xlfn.UNICHAR(9312-1+menu!B26),_xlfn.UNICHAR(12881-1+menu!B26-20)),menu!B26)) | C22: =IF(menu!C26="","",menu!C26) | D22: =IF(menu!E26="","",menu!E26) | E22: =IF(menu!F26="","",menu!F26) | F22: □
A23: 手 | B23: =IF(menu!B27="","",IF(menu!D27="〇",IF(menu!B27<21,_xlfn.UNICHAR(9312-1+menu!B27),_xlfn.UNICHAR(12881-1+menu!B27-20)),menu!B27)) | C23: =IF(menu!C27="","",menu!C27) | D23: =IF(menu!E27="","",menu!E27) | E23: =IF(menu!F27="","",menu!F27) | F23: □
B24: =IF(menu!B28="","",IF(menu!D28="〇",IF(menu!B28<21,_xlfn.UNICHAR(9312-1+menu!B28),_xlfn.UNICHAR(12881-1+menu!B28-20)),menu!B28)) | C24: =IF(menu!C28="","",menu!C28) | D24: =IF(menu!E28="","",menu!E28) | E24: =IF(menu!F28="","",menu!F28) | F24: □
B25: =IF(menu!B29="","",IF(menu!D29="〇",IF(menu!B29<21,_xlfn.UNICHAR(9312-1+menu!B29),_xlfn.UNICHAR(12881-1+menu!B29-20)),menu!B29)) | C25: =IF(menu!C29="","",menu!C29) | D25: =IF(menu!E29="","",menu!E29) | E25: =IF(menu!F29="","",menu!F29) | F25: □
B26: =IF(menu!B30="","",IF(menu!D30="〇",IF(menu!B30<21,_xlfn.UNICHAR(9312-1+menu!B30),_xlfn.UNICHAR(12881-1+menu!B30-20)),menu!B30)) | C26: =IF(menu!C30="","",menu!C30) | D26: =IF(menu!E30="","",menu!E30) | E26: =IF(menu!F30="","",menu!F30) | F26: □
B27: =IF(menu!B31="","",IF(menu!D31="〇",IF(menu!B31<21,_xlfn.UNICHAR(9312-1+menu!B31),_xlfn.UNICHAR(12881-1+menu!B31-20)),menu!B31)) | C27: =IF(menu!C31="","",menu!C31) | D27: =IF(menu!E31="","",menu!E31) | E27: =IF(menu!F31="","",menu!F31) | F27: □
B28: =IF(menu!B32="","",IF(menu!D32="〇",IF(menu!B32<21,_xlfn.UNICHAR(9312-1+menu!B32),_xlfn.UNICHAR(12881-1+menu!B32-20)),menu!B32)) | C28: =IF(menu!C32="","",menu!C32) | D28: =IF(menu!E32="","",menu!E32) | E28: =IF(menu!F32="","",menu!F32) | F28: □
B29: =IF(menu!B33="","",IF(menu!D33="〇",IF(menu!B33<21,_xlfn.UNICHAR(9312-1+menu!B33),_xlfn.UNICHAR(12881-1+menu!B33-20)),menu!B33)) | C29: =IF(menu!C33="","",menu!C33) | D29: =IF(menu!E33="","",menu!E33) | E29: =IF(menu!F33="","",menu!F33) | F29: □

Sheet レンジャー
A1: =menu!B5 -> 第35回レンジャー杯争奪ジュニア選手権大会参加申込書
A3: チーム名 | B3: =IF(menu!C9="","",menu!C9)
A4: 出場種目 | B4: 6人制
A5: 代表者 | B5: 名前 | C5: =IF(menu!C10="","",menu!C10)
B6: 住所 | C6: =IF(menu!C11="","",menu!C11)
B7: 郵便番号 | C7: =IF(menu!C12="","",menu!C12)
B8: 携帯電話 | C8: =IF(menu!C13="","",menu!C13)
A9: ベンチ | B9: 監督 | C9: =IF(menu!C14="","",menu!C14)
A10: スタッフ | B10: コーチ | C10: =IF(menu!C15="","",menu!C15)
B11: コーチ | C11: =IF(menu!C16="","",menu!C16)
B12: ﾏﾈｰｼﾞｬ― | C12: =IF(menu!C17="","",menu!C17)
A13: 帯同審判員 | C13: =IF(menu!C18="","",menu!C18)
B14: No | C14: 名前 | D14: 学年 | E14: 男女
B15: =IF(menu!B20="","",IF(menu!D20="〇",IF(menu!B20<21,_xlfn.UNICHAR(9312-1+menu!B20),_xlfn.UNICHAR(12881-1+menu!B20-20)),menu!B20)) | C15: =IF(menu!C20="","",menu!C20) | D15: =IF(menu!E20="","",menu!E20) | E15: =IF(menu!F20="","",menu!F20)
B16: =IF(menu!B21="","",IF(menu!D21="〇",IF(menu!B21<21,_xlfn.UNICHAR(9312-1+menu!B21),_xlfn.UNICHAR(12881-1+menu!B21-20)),menu!B21)) | C16: =IF(menu!C21="","",menu!C21) | D16: =IF(menu!E21="","",menu!E21) | E16: =IF(menu!F21="","",menu!F21)
A17: 選 | B17: =IF(menu!B22="","",IF(menu!D22="〇",IF(menu!B22<21,_xlfn.UNICHAR(9312-1+menu!B22),_xlfn.UNICHAR(12881-1+menu!B22-20)),menu!B22)) | C17: =IF(menu!C22="","",menu!C22) | D17: =IF(menu!E22="","",menu!E22) | E17: =IF(menu!F22="","",menu!F22)
B18: =IF(menu!B23="","",IF(menu!D23="〇",IF(menu!B23<21,_xlfn.UNICHAR(9312-1+menu!B23),_xlfn.UNICHAR(12881-1+menu!B23-20)),menu!B23)) | C18: =IF(menu!C23="","",menu!C23) | D18: =IF(menu!E23="","",menu!E23) | E18: =IF(menu!F23="","",menu!F23)
B19: =IF(menu!B24="","",IF(menu!D24="〇",IF(menu!B24<21,_xlfn.UNICHAR(9312-1+menu!B24),_xlfn.UNICHAR(12881-1+menu!B24-20)),menu!B24)) | C19: =IF(menu!C24="","",menu!C24) | D19: =IF(menu!E24="","",menu!E24) | E19: =IF(menu!F24="","",menu!F24)
B20: =IF(menu!B25="","",IF(menu!D25="〇",IF(menu!B25<21,_xlfn.UNICHAR(9312-1+menu!B25),_xlfn.UNICHAR(12881-1+menu!B25-20)),menu!B25)) | C20: =IF(menu!C25="","",menu!C25) | D20: =IF(menu!E25="","",menu!E25) | E20: =IF(menu!F25="","",menu!F25)
B21: =IF(menu!B26="","",IF(menu!D26="〇",IF(menu!B26<21,_xlfn.UNICHAR(9312-1+menu!B26),_xlfn.UNICHAR(12881-1+menu!B26-20)),menu!B26)) | C21: =IF(menu!C26="","",menu!C26) | D21: =IF(menu!E26="","",menu!E26) | E21: =IF(menu!F26="","",menu!F26)
A22: 手 | B22: =IF(menu!B27="","",IF(menu!D27="〇",IF(menu!B27<21,_xlfn.UNICHAR(9312-1+menu!B27),_xlfn.UNICHAR(12881-1+menu!B27-20)),menu!B27)) | C22: =IF(menu!C27="","",menu!C27) | D22: =IF(menu!E27="","",menu!E27) | E22: =IF(menu!F27="","",menu!F27)
B23: =IF(menu!B28="","",IF(menu!D28="〇",IF(menu!B28<21,_xlfn.UNICHAR(9312-1+menu!B28),_xlfn.UNICHAR(12881-1+menu!B28-20)),menu!B28)) | C23: =IF(menu!C28="","",menu!C28) | D23: =IF(menu!E28="","",menu!E28) | E23: =IF(menu!F28="","",menu!F28)
B24: =IF(menu!B29="","",IF(menu!D29="〇",IF(menu!B29<21,_xlfn.UNICHAR(9312-1+menu!B29),_xlfn.UNICHAR(12881-1+menu!B29-20)),menu!B29)) | C24: =IF(menu!C29="","",menu!C29) | D24: =IF(menu!E29="","",menu!E29) | E24: =IF(menu!F29="","",menu!F29)
B25: =IF(menu!B30="","",IF(menu!D30="〇",IF(menu!B30<21,_xlfn.UNICHAR(9312-1+menu!B30),_xlfn.UNICHAR(12881-1+menu!B30-20)),menu!B30)) | C25: =IF(menu!C30="","",menu!C30) | D25: =IF(menu!E30="","",menu!E30) | E25: =IF(menu!F30="","",menu!F30)
B26: =IF(menu!B31="","",IF(menu!D31="〇",IF(menu!B31<21,_xlfn.UNICHAR(9312-1+menu!B31),_xlfn.UNICHAR(12881-1+menu!B31-20)),menu!B31)) | C26: =IF(menu!C31="","",menu!C31) | D26: =IF(menu!E31="","",menu!E31) | E26: =IF(menu!F31="","",menu!F31)
B27: =IF(menu!B32="","",IF(menu!D32="〇",IF(menu!B32<21,_xlfn.UNICHAR(9312-1+menu!B32),_xlfn.UNICHAR(12881-1+menu!B32-20)),menu!B32)) | C27: =IF(menu!C32="","",menu!C32) | D27: =IF(menu!E32="","",menu!E32) | E27: =IF(menu!F32="","",menu!F32)
B28: =IF(menu!B33="","",IF(menu!D33="〇",IF(menu!B33<21,_xlfn.UNICHAR(9312-1+menu!B33),_xlfn.UNICHAR(12881-1+menu!B33-20)),menu!B33)) | C28: =IF(menu!C33="","",menu!C33) | D28: =IF(menu!E33="","",menu!E33) | E28: =IF(menu!F33="","",menu!F33)

Sheet ドリーム
A1: =menu!B6 -> 第36回2027広島ドリームバレーボール小学生大会北部予選大会参加申込書
A3: チーム名 | B3: =IF(menu!C9="","",menu!C9)
A4: 出場種目 | B4: 予選
A5: 男女混合 | B5: =IF(menu!H6="","",menu!H6)
A6: 代表者 | B6: 名前 | C6: =IF(menu!C10="","",menu!C10)
B7: 住所 | C7: =IF(menu!C11="","",menu!C11)
B8: 郵便番号 | C8: =IF(menu!C12="","",menu!C12)
B9: 携帯電話 | C9: =IF(menu!C13="","",menu!C13)
A10: ベンチ | B10: 監督 | C10: =IF(menu!C14="","",menu!C14) | D10: 指導者登録証 登録番号 | E10: =IF(menu!E14="","",menu!E14)
A11: スタッフ | B11: コーチ | C11: =IF(menu!C15="","",menu!C15) | D11: 指導者登録証 登録番号 | E11: =IF(menu!E15="","",menu!E15)
B12: コーチ | C12: =IF(menu!C16="","",menu!C16) | D12: 指導者登録証 登録番号 | E12: =IF(menu!E16="","",menu!E16)
B13: ﾏﾈｰｼﾞｬ― | C13: =IF(menu!C17="","",menu!C17) | D13: 指導者登録証 登録番号 | E13: =IF(menu!E17="","",menu!E17)
A14: 帯同審判員 | C14: =IF(menu!C18="","",menu!C18)
B15: No | C15: 名前 | D15: 学年 | E15: 男女 | F15: MRS
B16: =IF(menu!B20="","",IF(menu!D20="〇",IF(menu!B20<21,_xlfn.UNICHAR(9312-1+menu!B20),_xlfn.UNICHAR(12881-1+menu!B20-20)),menu!B20)) | C16: =IF(menu!C20="","",menu!C20) | D16: =IF(menu!E20="","",menu!E20) | E16: =IF(menu!F20="","",menu!F20) | F16: □ | G16: ○MRS欄は競技委員がチェックするのに使用します。
B17: =IF(menu!B21="","",IF(menu!D21="〇",IF(menu!B21<21,_xlfn.UNICHAR(9312-1+menu!B21),_xlfn.UNICHAR(12881-1+menu!B21-20)),menu!B21)) | C17: =IF(menu!C21="","",menu!C21) | D17: =IF(menu!E21="","",menu!E21) | E17: =IF(menu!F21="","",menu!F21) | F17: □
A18: 選 | B18: =IF(menu!B22="","",IF(menu!D22="〇",IF(menu!B22<21,_xlfn.UNICHAR(9312-1+menu!B22),_xlfn.UNICHAR(12881-1+menu!B22-20)),menu!B22)) | C18: =IF(menu!C22="","",menu!C22) | D18: =IF(menu!E22="","",menu!E22) | E18: =IF(menu!F22="","",menu!F22) | F18: □
B19: =IF(menu!B23="","",IF(menu!D23="〇",IF(menu!B23<21,_xlfn.UNICHAR(9312-1+menu!B23),_xlfn.UNICHAR(12881-1+menu!B23-20)),menu!B23)) | C19: =IF(menu!C23="","",menu!C23) | D19: =IF(menu!E23="","",menu!E23) | E19: =IF(menu!F23="","",menu!F23) | F19: □
B20: =IF(menu!B24="","",IF(menu!D24="〇",IF(menu!B24<21,_xlfn.UNICHAR(9312-1+menu!B24),_xlfn.UNICHAR(12881-1+menu!B24-20)),menu!B24)) | C20: =IF(menu!C24="","",menu!C24) | D20: =IF(menu!E24="","",menu!E24) | E20: =IF(menu!F24="","",menu!F24) | F20: □
B21: =IF(menu!B25="","",IF(menu!D25="〇",IF(menu!B25<21,_xlfn.UNICHAR(9312-1+menu!B25),_xlfn.UNICHAR(12881-1+menu!B25-20)),menu!B25)) | C21: =IF(menu!C25="","",menu!C25) | D21: =IF(menu!E25="","",menu!E25) | E21: =IF(menu!F25="","",menu!F25) | F21: □
B22: =IF(menu!B26="","",IF(menu!D26="〇",IF(menu!B26<21,_xlfn.UNICHAR(9312-1+menu!B26),_xlfn.UNICHAR(12881-1+menu!B26-20)),menu!B26)) | C22: =IF(menu!C26="","",menu!C26) | D22: =IF(menu!E26="","",menu!E26) | E22: =IF(menu!F26="","",menu!F26) | F22: □
A23: 手 | B23: =IF(menu!B27="","",IF(menu!D27="〇",IF(menu!B27<21,_xlfn.UNICHAR(9312-1+menu!B27),_xlfn.UNICHAR(12881-1+menu!B27-20)),menu!B27)) | C23: =IF(menu!C27="","",menu!C27) | D23: =IF(menu!E27="","",menu!E27) | E23: =IF(menu!F27="","",menu!F27) | F23: □
B24: =IF(menu!B28="","",IF(menu!D28="〇",IF(menu!B28<21,_xlfn.UNICHAR(9312-1+menu!B28),_xlfn.UNICHAR(12881-1+menu!B28-20)),menu!B28)) | C24: =IF(menu!C28="","",menu!C28) | D24: =IF(menu!E28="","",menu!E28) | E24: =IF(menu!F28="","",menu!F28) | F24: □
B25: =IF(menu!B29="","",IF(menu!D29="〇",IF(menu!B29<21,_xlfn.UNICHAR(9312-1+menu!B29),_xlfn.UNICHAR(12881-1+menu!B29-20)),menu!B29)) | C25: =IF(menu!C29="","",menu!C29) | D25: =IF(menu!E29="","",menu!E29) | E25: =IF(menu!F29="","",menu!F29) | F25: □
B26: =IF(menu!B30="","",IF(menu!D30="〇",IF(menu!B30<21,_xlfn.UNICHAR(9312-1+menu!B30),_xlfn.UNICHAR(12881-1+menu!B30-20)),menu!B30)) | C26: =IF(menu!C30="","",menu!C30) | D26: =IF(menu!E30="","",menu!E30) | E26: =IF(menu!F30="","",menu!F30) | F26: □
B27: =IF(menu!B31="","",IF(menu!D31="〇",IF(menu!B31<21,_xlfn.UNICHAR(9312-1+menu!B31),_xlfn.UNICHAR(12881-1+menu!B31-20)),menu!B31)) | C27: =IF(menu!C31="","",menu!C31) | D27: =IF(menu!E31="","",menu!E31) | E27: =IF(menu!F31="","",menu!F31) | F27: □
B28: =IF(menu!B32="","",IF(menu!D32="〇",IF(menu!B32<21,_xlfn.UNICHAR(9312-1+menu!B32),_xlfn.UNICHAR(12881-1+menu!B32-20)),menu!B32)) | C28: =IF(menu!C32="","",menu!C32) | D28: =IF(menu!E32="","",menu!E32) | E28: =IF(menu!F32="","",menu!F32) | F28: □
B29: =IF(menu!B33="","",IF(menu!D33="〇",IF(menu!B33<21,_xlfn.UNICHAR(9312-1+menu!B33),_xlfn.UNICHAR(12881-1+menu!B33-20)),menu!B33)) | C29: =IF(menu!C33="","",menu!C33) | D29: =IF(menu!E33="","",menu!E33) | E29: =IF(menu!F33="","",menu!F33) | F29: □

Sheet 記録用紙ラインナップ
B1: AorB | P1: AorB | S1: AorB | AG1: AorB
B2: 〇 | D2: =IF(menu!C9="","",menu!C9) | I2: チーム名 | K2: =IF(D2="","",D2) | P2: 〇 | S2: 〇 | U2: =IF(D2="","",D2) | Z2: チーム名 | AB2: =IF(U2="","",U2) | AG2: 〇
B4: 番号 | D4: 氏 名 | J4: 番号 | L4: 氏 名 | S4: 番号 | U4: 氏 名 | AA4: 番号 | AC4: 氏 名
B5: =IF(menu!B20="","",IF(menu!D20="〇",IF(menu!B20<21,_xlfn.UNICHAR(9312-1+menu!B20),_xlfn.UNICHAR(12881-1+menu!B20-20)),menu!B20)) | D5: =IF(menu!C20="","",menu!C20) | J5: =IF(B5="","",B5) | L5: =IF(D5="","",D5) | S5: =IF(B5="","",B5) | U5: =IF(D5="","",D5) | AA5: =IF(S5="","",S5) | AC5: =IF(U5="","",U5)
B6: =IF(menu!B21="","",IF(menu!D21="〇",IF(menu!B21<21,_xlfn.UNICHAR(9312-1+menu!B21),_xlfn.UNICHAR(12881-1+menu!B21-20)),menu!B21)) | D6: =IF(menu!C21="","",menu!C21) | J6: =IF(B6="","",B6) | L6: =IF(D6="","",D6) | S6: =IF(B6="","",B6) | U6: =IF(D6="","",D6) | AA6: =IF(S6="","",S6) | AC6: =IF(U6="","",U6)
B7: =IF(menu!B22="","",IF(menu!D22="〇",IF(menu!B22<21,_xlfn.UNICHAR(9312-1+menu!B22),_xlfn.UNICHAR(12881-1+menu!B22-20)),menu!B22)) | D7: =IF(menu!C22="","",menu!C22) | J7: =IF(B7="","",B7) | L7: =IF(D7="","",D7) | S7: =IF(B7="","",B7) | U7: =IF(D7="","",D7) | AA7: =IF(S7="","",S7) | AC7: =IF(U7="","",U7)
B8: =IF(menu!B23="","",IF(menu!D23="〇",IF(menu!B23<21,_xlfn.UNICHAR(9312-1+menu!B23),_xlfn.UNICHAR(12881-1+menu!B23-20)),menu!B23)) | D8: =IF(menu!C23="","",menu!C23) | J8: =IF(B8="","",B8) | L8: =IF(D8="","",D8) | S8: =IF(B8="","",B8) | U8: =IF(D8="","",D8) | AA8: =IF(S8="","",S8) | AC8: =IF(U8="","",U8)
B9: =IF(menu!B24="","",IF(menu!D24="〇",IF(menu!B24<21,_xlfn.UNICHAR(9312-1+menu!B24),_xlfn.UNICHAR(12881-1+menu!B24-20)),menu!B24)) | D9: =IF(menu!C24="","",menu!C24) | J9: =IF(B9="","",B9) | L9: =IF(D9="","",D9) | S9: =IF(B9="","",B9) | U9: =IF(D9="","",D9) | AA9: =IF(S9="","",S9) | AC9: =IF(U9="","",U9)
B10: =IF(menu!B25="","",IF(menu!D25="〇",IF(menu!B25<21,_xlfn.UNICHAR(9312-1+menu!B25),_xlfn.UNICHAR(12881-1+menu!B25-20)),menu!B25)) | D10: =IF(menu!C25="","",menu!C25) | J10: =IF(B10="","",B10) | L10: =IF(D10="","",D10) | S10: =IF(B10="","",B10) | U10: =IF(D10="","",D10) | AA10: =IF(S10="","",S10) | AC10: =IF(U10="","",U10)
B11: =IF(menu!B26="","",IF(menu!D26="〇",IF(menu!B26<21,_xlfn.UNICHAR(9312-1+menu!B26),_xlfn.UNICHAR(12881-1+menu!B26-20)),menu!B26)) | D11: =IF(menu!C26="","",menu!C26) | J11: =IF(B11="","",B11) | L11: =IF(D11="","",D11) | S11: =IF(B11="","",B11) | U11: =IF(D11="","",D11) | AA11: =IF(S11="","",S11) | AC11: =IF(U11="","",U11)
B12: =IF(menu!B27="","",IF(menu!D27="〇",IF(menu!B27<21,_xlfn.UNICHAR(9312-1+menu!B27),_xlfn.UNICHAR(12881-1+menu!B27-20)),menu!B27)) | D12: =IF(menu!C27="","",menu!C27) | J12: =IF(B12="","",B12) | L12: =IF(D12="","",D12) | S12: =IF(B12="","",B12) | U12: =IF(D12="","",D12) | AA12: =IF(S12="","",S12) | AC12: =IF(U12="","",U12)
B13: =IF(menu!B28="","",IF(menu!D28="〇",IF(menu!B28<21,_xlfn.UNICHAR(9312-1+menu!B28),_xlfn.UNICHAR(12881-1+menu!B28-20)),menu!B28)) | D13: =IF(menu!C28="","",menu!C28) | J13: =IF(B13="","",B13) | L13: =IF(D13="","",D13) | S13: =IF(B13="","",B13) | U13: =IF(D13="","",D13) | AA13: =IF(S13="","",S13) | AC13: =IF(U13="","",U13)
B14: =IF(menu!B29="","",IF(menu!D29="〇",IF(menu!B29<21,_xlfn.UNICHAR(9312-1+menu!B29),_xlfn.UNICHAR(12881-1+menu!B29-20)),menu!B29)) | D14: =IF(menu!C29="","",menu!C29) | J14: =IF(B14="","",B14) | L14: =IF(D14="","",D14) | S14: =IF(B14="","",B14) | U14: =IF(D14="","",D14) | AA14: =IF(S14="","",S14) | AC14: =IF(U14="","",U14)
B15: =IF(menu!B30="","",IF(menu!D30="〇",IF(menu!B30<21,_xlfn.UNICHAR(9312-1+menu!B30),_xlfn.UNICHAR(12881-1+menu!B30-20)),menu!B30)) | D15: =IF(menu!C30="","",menu!C30) | J15: =IF(B15="","",B15) | L15: =IF(D15="","",D15) | S15: =IF(B15="","",B15) | U15: =IF(D15="","",D15) | AA15: =IF(S15="","",S15) | AC15: =IF(U15="","",U15)
B16: =IF(menu!B31="","",IF(menu!D31="〇",IF(menu!B31<21,_xlfn.UNICHAR(9312-1+menu!B31),_xlfn.UNICHAR(12881-1+menu!B31-20)),menu!B31)) | D16: =IF(menu!C31="","",menu!C31) | J16: =IF(B16="","",B16) | L16: =IF(D16="","",D16) | S16: =IF(B16="","",B16) | U16: =IF(D16="","",D16) | AA16: =IF(S16="","",S16) | AC16: =IF(U16="","",U16)
B17: =IF(menu!B32="","",IF(menu!D32="〇",IF(menu!B32<21,_xlfn.UNICHAR(9312-1+menu!B32),_xlfn.UNICHAR(12881-1+menu!B32-20)),menu!B32)) | D17: =IF(menu!C32="","",menu!C32) | J17: =IF(B17="","",B17) | L17: =IF(D17="","",D17) | S17: =IF(B17="","",B17) | U17: =IF(D17="","",D17) | AA17: =IF(S17="","",S17) | AC17: =IF(U17="","",U17)
B18: 監督 | D18: =IF(menu!C14="","",menu!C14) | J18: 監督 | L18: =IF(D18="","",D18) | S18: 監督 | U18: =IF(D18="","",D18) | AA18: 監督 | AC18: =IF(U18="","",U18)
B19: コーチ | D19: =IF(menu!C15="","",menu!C15) | J19: コーチ | L19: =IF(D19="","",D19) | S19: コーチ | U19: =IF(D19="","",D19) | AA19: コーチ | AC19: =IF(U19="","",U19)
B20: ﾏﾈｰｼﾞｬ― | D20: =IF(menu!C17="","",menu!C17) | J20: ﾏﾈｰｼﾞｬ― | L20: =IF(D20="","",D20) | S20: ﾏﾈｰｼﾞｬ― | U20: =IF(D20="","",D20) | AA20: ﾏﾈｰｼﾞｬ― | AC20: =IF(U20="","",U20)
B22: AorB | P22: AorB | S22: AorB | AG22: AorB
B23: 〇 | D23: =IF(D2="","",D2) | I23: チーム名 | K23: =IF(D23="","",D23) | P23: 〇 | S23: 〇 | U23: =IF(U2="","",U2) | Z23: チーム名 | AB23: =IF(U23="","",U23) | AG23: 〇
B25: 番号 | D25: 氏 名 | J25: 番号 | L25: 氏 名 | S25: 番号 | U25: 氏 名 | AA25: 番号 | AC25: 氏 名
B26: =IF(B5="","",B5) | D26: =IF(D5="","",D5) | J26: =IF(B26="","",B26) | L26: =IF(D26="","",D26) | S26: =IF(S5="","",S5) | U26: =IF(U5="","",U5) | AA26: =IF(S26="","",S26) | AC26: =IF(U26="","",U26)
B27: =IF(B6="","",B6) | D27: =IF(D6="","",D6) | J27: =IF(B27="","",B27) | L27: =IF(D27="","",D27) | S27: =IF(S6="","",S6) | U27: =IF(U6="","",U6) | AA27: =IF(S27="","",S27) | AC27: =IF(U27="","",U27)
B28: =IF(B7="","",B7) | D28: =IF(D7="","",D7) | J28: =IF(B28="","",B28) | L28: =IF(D28="","",D28) | S28: =IF(S7="","",S7) | U28: =IF(U7="","",U7) | AA28: =IF(S28="","",S28) | AC28: =IF(U28="","",U28)
B29: =IF(B8="","",B8) | D29: =IF(D8="","",D8) | J29: =IF(B29="","",B29) | L29: =IF(D29="","",D29) | S29: =IF(S8="","",S8) | U29: =IF(U8="","",U8) | AA29: =IF(S29="","",S29) | AC29: =IF(U29="","",U29)
B30: =IF(B9="","",B9) | D30: =IF(D9="","",D9) | J30: =IF(B30="","",B30) | L30: =IF(D30="","",D30) | S30: =IF(S9="","",S9) | U30: =IF(U9="","",U9) | AA30: =IF(S30="","",S30) | AC30: =IF(U30="","",U30)
B31: =IF(B10="","",B10) | D31: =IF(D10="","",D10) | J31: =IF(B31="","",B31) | L31: =IF(D31="","",D31) | S31: =IF(S10="","",S10) | U31: =IF(U10="","",U10) | AA31: =IF(S31="","",S31) | AC31: =IF(U31="","",U31)
B32: =IF(B11="","",B11) | D32: =IF(D11="","",D11) | J32: =IF(B32="","",B32) | L32: =IF(D32="","",D32) | S32: =IF(S11="","",S11) | U32: =IF(U11="","",U11) | AA32: =IF(S32="","",S32) | AC32: =IF(U32="","",U32)
B33: =IF(B12="","",B12) | D33: =IF(D12="","",D12) | J33: =IF(B33="","",B33) | L33: =IF(D33="","",D33) | S33: =IF(S12="","",S12) | U33: =IF(U12="","",U12) | AA33: =IF(S33="","",S33) | AC33: =IF(U33="","",U33)
B34: =IF(B13="","",B13) | D34: =IF(D13="","",D13) | J34: =IF(B34="","",B34) | L34: =IF(D34="","",D34) | S34: =IF(S13="","",S13) | U34: =IF(U13="","",U13) | AA34: =IF(S34="","",S34) | AC34: =IF(U34="","",U34)
B35: =IF(B14="","",B14) | D35: =IF(D14="","",D14) | J35: =IF(B35="","",B35) | L35: =IF(D35="","",D35) | S35: =IF(S14="","",S14) | U35: =IF(U14="","",U14) | AA35: =IF(S35="","",S35) | AC35: =IF(U35="","",U35)
B36: =IF(B15="","",B15) | D36: =IF(D15="","",D15) | J36: =IF(B36="","",B36) | L36: =IF(D36="","",D36) | S36: =IF(S15="","",S15) | U36: =IF(U15="","",U15) | AA36: =IF(S36="","",S36) | AC36: =IF(U36="","",U36)
B37: =IF(B16="","",B16) | D37: =IF(D16="","",D16) | J37: =IF(B37="","",B37) | L37: =IF(D37="","",D37) | S37: =IF(S16="","",S16) | U37: =IF(U16="","",U16) | AA37: =IF(S37="","",S37) | AC37: =IF(U37="","",U37)
B38: =IF(B17="","",B17) | D38: =IF(D17="","",D17) | J38: =IF(B38="","",B38) | L38: =IF(D38="","",D38) | S38: =IF(S17="","",S17) | U38: =IF(U17="","",U17) | AA38: =IF(S38="","",S38) | AC38: =IF(U38="","",U38)
B39: 監督 | D39: =IF(D18="","",D18) | J39: 監督 | L39: =IF(D39="","",D39) | S39: 監督 | U39: =IF(U18="","",U18) | AA39: 監督 | AC39: =IF(U39="","",U39)
B40: コーチ | D40: =IF(D19="","",D19) | J40: コーチ | L40: =IF(D40="","",D40) | S40: コーチ | U40: =IF(U19="","",U19) | AA40: コーチ | AC40: =IF(U40="","",U40)
B41: ﾏﾈｰｼﾞｬ― | D41: =IF(D20="","",D20) | J41: ﾏﾈｰｼﾞｬ― | L41: =IF(D41="","",D41) | S41: ﾏﾈｰｼﾞｬ― | U41: =IF(U20="","",U20) | AA41: ﾏﾈｰｼﾞｬ― | AC41: =IF(U41="","",U41)
